BEGIN:VCALENDAR
VERSION:2.0
PRODID:-//wp-events-plugin.com//7.2.3.1//EN
TZID:America/New_York
X-WR-TIMEZONE:America/New_York
BEGIN:VEVENT
UID:176@waldenpubliclibrary.org
DTSTART;TZID=America/New_York:20210710T100000
DTEND;TZID=America/New_York:20210710T120000
DTSTAMP:20210622T162921Z
URL:https://waldenpubliclibrary.org/events/chess-club-2/
SUMMARY:Chess Club
DESCRIPTION:Join Daniel and members of the Library's Chess Club for a few g
 ames or learn how to play. The club meets from 10 a.m.-noon every second S
 aturday of the month. Registration is required. Call 778-7621 for more inf
 ormation.
CATEGORIES:Adults,Families,Kids,Teens
END:VEVENT
BEGIN:VTIMEZONE
TZID:America/New_York
X-LIC-LOCATION:America/New_York
BEGIN:DAYLIGHT
DTSTART:20210314T030000
TZOFFSETFROM:-0500
TZOFFSETTO:-0400
TZNAME:EDT
END:DAYLIGHT
END:VTIMEZONE
END:VCALENDAR