BEGIN:VCALENDAR
VERSION:2.0
PRODID:-//wp-events-plugin.com//7.2.3.1//EN
TZID:America/New_York
X-WR-TIMEZONE:America/New_York
BEGIN:VEVENT
UID:174@waldenpubliclibrary.org
DTSTART;TZID=America/New_York:20210804T103000
DTEND;TZID=America/New_York:20210804T113000
DTSTAMP:20210622T161612Z
URL:https://waldenpubliclibrary.org/events/kids-srp-musical-story-time-wit
 h-miss-anne-for-ages-birth-to-2-1-2-5/
SUMMARY:Kids' SRP: Musical Story Time with Miss Anne for ages birth to 2 1/
 2
DESCRIPTION:Sign up for our new children's program\, Musical Story Time wit
 h Miss Anne for ages birth to 2 1/2.Join Miss Anne for a morning of singin
 g\, reading and playing at 10:30 a.m . Wednesdays through August 4. Regist
 ration is required. Call 778-7621 for more information.\n&nbsp\;
CATEGORIES:Families,Kids
END:VEVENT
BEGIN:VTIMEZONE
TZID:America/New_York
X-LIC-LOCATION:America/New_York
BEGIN:DAYLIGHT
DTSTART:20210314T030000
TZOFFSETFROM:-0500
TZOFFSETTO:-0400
TZNAME:EDT
END:DAYLIGHT
END:VTIMEZONE
END:VCALENDAR