BEGIN:VCALENDAR
VERSION:2.0
PRODID:-//wp-events-plugin.com//7.2.3.1//EN
TZID:America/New_York
X-WR-TIMEZONE:America/New_York
BEGIN:VEVENT
UID:301@waldenpubliclibrary.org
DTSTART;TZID=America/New_York:20220115T140000
DTEND;TZID=America/New_York:20220115T160000
DTSTAMP:20211217T213759Z
URL:https://waldenpubliclibrary.org/events/magic-the-gathering-club-9/
SUMMARY:Magic! the Gathering Club
DESCRIPTION:The club meets on the first and third Saturdays of the month\, 
 but will only meet once in January due to the New Year's Day closing. For 
 more information\, call 778-7621 or e-mail datonna@rcls.org.
CATEGORIES:Adults,Families,Kids,Teens
END:VEVENT
BEGIN:VTIMEZONE
TZID:America/New_York
X-LIC-LOCATION:America/New_York
BEGIN:STANDARD
DTSTART:20211107T010000
TZOFFSETFROM:-0400
TZOFFSETTO:-0500
TZNAME:EST
END:STANDARD
END:VTIMEZONE
END:VCALENDAR