BEGIN:VCALENDAR
VERSION:2.0
PRODID:-//wp-events-plugin.com//7.2.3.1//EN
TZID:America/New_York
X-WR-TIMEZONE:America/New_York
BEGIN:VEVENT
UID:563@waldenpubliclibrary.org
DTSTART;TZID=America/New_York:20240626T183000
DTEND;TZID=America/New_York:20240626T200000
DTSTAMP:20240611T194349Z
URL:https://waldenpubliclibrary.org/events/music-in-the-grove-blue-crush/
SUMMARY:Music in the Grove: BluCrush
DESCRIPTION:
CATEGORIES:Families
END:VEVENT
BEGIN:VTIMEZONE
TZID:America/New_York
X-LIC-LOCATION:America/New_York
BEGIN:DAYLIGHT
DTSTART:20240310T030000
TZOFFSETFROM:-0500
TZOFFSETTO:-0400
TZNAME:EDT
END:DAYLIGHT
END:VTIMEZONE
END:VCALENDAR