BEGIN:VCALENDAR
VERSION:2.0
PRODID:-//wp-events-plugin.com//7.2.3.1//EN
TZID:America/New_York
X-WR-TIMEZONE:America/New_York
BEGIN:VEVENT
UID:667@waldenpubliclibrary.org
DTSTART;TZID=America/New_York:20241021T173000
DTEND;TZID=America/New_York:20241021T193000
DTSTAMP:20240930T184242Z
URL:https://waldenpubliclibrary.org/events/polymer-clay-ghost-pumpkin/
SUMMARY:Polymer Clay Ghost & Pumpkin
DESCRIPTION:Ages 7 &amp\; Up
CATEGORIES:Adults,Kids,Teens
END:VEVENT
BEGIN:VTIMEZONE
TZID:America/New_York
X-LIC-LOCATION:America/New_York
BEGIN:DAYLIGHT
DTSTART:20240310T030000
TZOFFSETFROM:-0500
TZOFFSETTO:-0400
TZNAME:EDT
END:DAYLIGHT
END:VTIMEZONE
END:VCALENDAR