BEGIN:VCALENDAR
VERSION:2.0
PRODID:-//wp-events-plugin.com//7.2.3.1//EN
TZID:America/New_York
X-WR-TIMEZONE:America/New_York
BEGIN:VEVENT
UID:769@waldenpubliclibrary.org
DTSTART;TZID=America/New_York:20250125T100000
DTEND;TZID=America/New_York:20250125T130000
DTSTAMP:20241230T212218Z
URL:https://waldenpubliclibrary.org/events/repair-cafe/
SUMMARY:Repair Cafe
DESCRIPTION:
CATEGORIES:Adults,Families
END:VEVENT
BEGIN:VTIMEZONE
TZID:America/New_York
X-LIC-LOCATION:America/New_York
BEGIN:STANDARD
DTSTART:20241103T010000
TZOFFSETFROM:-0400
TZOFFSETTO:-0500
TZNAME:EST
END:STANDARD
END:VTIMEZONE
END:VCALENDAR