BEGIN:VCALENDAR
VERSION:2.0
PRODID:-//wp-events-plugin.com//7.2.3.1//EN
TZID:America/New_York
X-WR-TIMEZONE:America/New_York
BEGIN:VEVENT
UID:187@waldenpubliclibrary.org
DTSTART;TZID=America/New_York:20210715T183000
DTEND;TZID=America/New_York:20210715T200000
DTSTAMP:20210707T142953Z
URL:https://waldenpubliclibrary.org/events/the-birds-of-home-with-bill-fie
 ro/
SUMMARY:The Birds of Home with Bill Fiero
DESCRIPTION:Join us for Bill's adventures behind the camera\, and discover 
 current intricate practices of our New York state birds. Registration is r
 equired. Call 778-7621 or e-mail wal@rcls.org for more information.
CATEGORIES:Families
END:VEVENT
BEGIN:VTIMEZONE
TZID:America/New_York
X-LIC-LOCATION:America/New_York
BEGIN:DAYLIGHT
DTSTART:20210314T030000
TZOFFSETFROM:-0500
TZOFFSETTO:-0400
TZNAME:EDT
END:DAYLIGHT
END:VTIMEZONE
END:VCALENDAR